BEGIN:VCALENDAR
VERSION:2.0
PRODID:-//Waldeslauschen - ECPv6.1.3//NONSGML v1.0//EN
CALSCALE:GREGORIAN
METHOD:PUBLISH
X-ORIGINAL-URL:http://waldeslauschen.de
X-WR-CALDESC:Veranstaltungen für Waldeslauschen
REFRESH-INTERVAL;VALUE=DURATION:PT1H
X-Robots-Tag:noindex
X-PUBLISHED-TTL:PT1H
BEGIN:VTIMEZONE
TZID:Europe/Berlin
BEGIN:DAYLIGHT
TZOFFSETFROM:+0100
TZOFFSETTO:+0200
TZNAME:CEST
DTSTART:20260329T010000
END:DAYLIGHT
BEGIN:STANDARD
TZOFFSETFROM:+0200
TZOFFSETTO:+0100
TZNAME:CET
DTSTART:20261025T010000
END:STANDARD
END:VTIMEZONE
BEGIN:VEVENT
DTSTART;TZID=Europe/Berlin:20260202T084500
DTEND;TZID=Europe/Berlin:20260202T093000
DTSTAMP:20260419T171840
CREATED:20260201T110302Z
LAST-MODIFIED:20260201T110302Z
UID:1768-1770021900-1770024600@waldeslauschen.de
SUMMARY:Online: EcoNidra
DESCRIPTION:EcoNidra ist eine Mischung aus Tiefenentspannung und Naturverbindung. Hier kommen yogischer Schlaf und Waldbaden zusammen\, und das ganz bequem von zu Hause aus. Alles was du brauchst\, ist ein gemütlicher\, ungestörter Platz zum Liegen\, ein PC/Handy mit Internetverbindung\, am besten auch ein Kopfhörer\, und etwas aus der Natur\, z.B. einen Stein oder eine Pflanze. Wir machen uns gemeinsam auf eine Reise durch die Sinne\, den Körper und die Erde. Den Zoomlink erhältst Du über ganzohr [at] waldeslauschen.de
URL:http://waldeslauschen.de/einladung/online-econidra-88/
LOCATION:Zoom
ORGANIZER;CN="Till%20Flo%20Krapoth":MAILTO:ganzohr@waldeslauschen.de
END:VEVENT
BEGIN:VEVENT
DTSTART;TZID=Europe/Berlin:20260205T090000
DTEND;TZID=Europe/Berlin:20260205T100000
DTSTAMP:20260419T171840
CREATED:20260201T110606Z
LAST-MODIFIED:20260201T110606Z
UID:1776-1770282000-1770285600@waldeslauschen.de
SUMMARY:Online: OpenSpace
DESCRIPTION:Ein Raum\, in dem Du Dich bei Dir zu Hause nach Herzenslust bewegen kannst. \nVirtuell verbunden mit anderen. \nMusikalisch begleitet vom trio einfach schön. \nDen Zoomlink erhältst Du über ganzohr [at] waldeslauschen.de
URL:http://waldeslauschen.de/einladung/online-openspace/
LOCATION:Zoom
ORGANIZER;CN="Anne%20Pommier":MAILTO:info@anne-pommier.com
END:VEVENT
BEGIN:VEVENT
DTSTART;TZID=Europe/Berlin:20260209T084500
DTEND;TZID=Europe/Berlin:20260209T093000
DTSTAMP:20260419T171840
CREATED:20260201T110353Z
LAST-MODIFIED:20260201T110353Z
UID:1770-1770626700-1770629400@waldeslauschen.de
SUMMARY:Online: EcoNidra
DESCRIPTION:EcoNidra ist eine Mischung aus Tiefenentspannung und Naturverbindung. Hier kommen yogischer Schlaf und Waldbaden zusammen\, und das ganz bequem von zu Hause aus. Alles was du brauchst\, ist ein gemütlicher\, ungestörter Platz zum Liegen\, ein PC/Handy mit Internetverbindung\, am besten auch ein Kopfhörer\, und etwas aus der Natur\, z.B. einen Stein oder eine Pflanze. Wir machen uns gemeinsam auf eine Reise durch die Sinne\, den Körper und die Erde. Den Zoomlink erhältst Du über ganzohr [at] waldeslauschen.de
URL:http://waldeslauschen.de/einladung/online-econidra-89/
LOCATION:Zoom
ORGANIZER;CN="Till%20Flo%20Krapoth":MAILTO:ganzohr@waldeslauschen.de
END:VEVENT
BEGIN:VEVENT
DTSTART;TZID=Europe/Berlin:20260212T090000
DTEND;TZID=Europe/Berlin:20260212T100000
DTSTAMP:20260419T171840
CREATED:20260201T110640Z
LAST-MODIFIED:20260201T110640Z
UID:1778-1770886800-1770890400@waldeslauschen.de
SUMMARY:Online: OpenSpace
DESCRIPTION:Ein Raum\, in dem Du Dich bei Dir zu Hause nach Herzenslust bewegen kannst. \nVirtuell verbunden mit anderen. \nMusikalisch begleitet vom trio einfach schön. \nDen Zoomlink erhältst Du über ganzohr [at] waldeslauschen.de
URL:http://waldeslauschen.de/einladung/online-openspace-2/
LOCATION:Zoom
ORGANIZER;CN="Anne%20Pommier":MAILTO:info@anne-pommier.com
END:VEVENT
BEGIN:VEVENT
DTSTART;TZID=Europe/Berlin:20260216T084500
DTEND;TZID=Europe/Berlin:20260216T093000
DTSTAMP:20260419T171840
CREATED:20260201T110427Z
LAST-MODIFIED:20260201T110427Z
UID:1772-1771231500-1771234200@waldeslauschen.de
SUMMARY:Online: EcoNidra
DESCRIPTION:EcoNidra ist eine Mischung aus Tiefenentspannung und Naturverbindung. Hier kommen yogischer Schlaf und Waldbaden zusammen\, und das ganz bequem von zu Hause aus. Alles was du brauchst\, ist ein gemütlicher\, ungestörter Platz zum Liegen\, ein PC/Handy mit Internetverbindung\, am besten auch ein Kopfhörer\, und etwas aus der Natur\, z.B. einen Stein oder eine Pflanze. Wir machen uns gemeinsam auf eine Reise durch die Sinne\, den Körper und die Erde. Den Zoomlink erhältst Du über ganzohr [at] waldeslauschen.de
URL:http://waldeslauschen.de/einladung/online-econidra-90/
ORGANIZER;CN="Till%20Flo%20Krapoth":MAILTO:ganzohr@waldeslauschen.de
END:VEVENT
BEGIN:VEVENT
DTSTART;TZID=Europe/Berlin:20260219T090000
DTEND;TZID=Europe/Berlin:20260219T100000
DTSTAMP:20260419T171840
CREATED:20260201T110713Z
LAST-MODIFIED:20260201T110713Z
UID:1780-1771491600-1771495200@waldeslauschen.de
SUMMARY:Online: OpenSpace
DESCRIPTION:Ein Raum\, in dem Du Dich bei Dir zu Hause nach Herzenslust bewegen kannst. \nVirtuell verbunden mit anderen. \nMusikalisch begleitet vom trio einfach schön. \nDen Zoomlink erhältst Du über ganzohr [at] waldeslauschen.de
URL:http://waldeslauschen.de/einladung/online-openspace-3/
LOCATION:Zoom
ORGANIZER;CN="Anne%20Pommier":MAILTO:info@anne-pommier.com
END:VEVENT
BEGIN:VEVENT
DTSTART;TZID=Europe/Berlin:20260223T084500
DTEND;TZID=Europe/Berlin:20260223T093000
DTSTAMP:20260419T171840
CREATED:20260201T110513Z
LAST-MODIFIED:20260201T110513Z
UID:1774-1771836300-1771839000@waldeslauschen.de
SUMMARY:Online: EcoNidra
DESCRIPTION:EcoNidra ist eine Mischung aus Tiefenentspannung und Naturverbindung. Hier kommen yogischer Schlaf und Waldbaden zusammen\, und das ganz bequem von zu Hause aus. Alles was du brauchst\, ist ein gemütlicher\, ungestörter Platz zum Liegen\, ein PC/Handy mit Internetverbindung\, am besten auch ein Kopfhörer\, und etwas aus der Natur\, z.B. einen Stein oder eine Pflanze. Wir machen uns gemeinsam auf eine Reise durch die Sinne\, den Körper und die Erde. Den Zoomlink erhältst Du über ganzohr [at] waldeslauschen.de
URL:http://waldeslauschen.de/einladung/online-econidra-91/
LOCATION:Zoom
ORGANIZER;CN="Till%20Flo%20Krapoth":MAILTO:ganzohr@waldeslauschen.de
END:VEVENT
BEGIN:VEVENT
DTSTART;TZID=Europe/Berlin:20260226T090000
DTEND;TZID=Europe/Berlin:20260226T100000
DTSTAMP:20260419T171840
CREATED:20260201T110752Z
LAST-MODIFIED:20260201T110752Z
UID:1782-1772096400-1772100000@waldeslauschen.de
SUMMARY:Online: OpenSpace
DESCRIPTION:Ein Raum\, in dem Du Dich bei Dir zu Hause nach Herzenslust bewegen kannst. \nVirtuell verbunden mit anderen. \nMusikalisch begleitet vom trio einfach schön. \nDen Zoomlink erhältst Du über ganzohr [at] waldeslauschen.de
URL:http://waldeslauschen.de/einladung/online-openspace-4/
LOCATION:Zoom
ORGANIZER;CN="Anne%20Pommier":MAILTO:info@anne-pommier.com
END:VEVENT
END:VCALENDAR