BEGIN:VCALENDAR
VERSION:2.0
PRODID:-//Waldeslauschen - ECPv6.1.3//NONSGML v1.0//EN
CALSCALE:GREGORIAN
METHOD:PUBLISH
X-WR-CALNAME:Waldeslauschen
X-ORIGINAL-URL:http://waldeslauschen.de
X-WR-CALDESC:Veranstaltungen für Waldeslauschen
REFRESH-INTERVAL;VALUE=DURATION:PT1H
X-Robots-Tag:noindex
X-PUBLISHED-TTL:PT1H
BEGIN:VTIMEZONE
TZID:Europe/Berlin
BEGIN:DAYLIGHT
TZOFFSETFROM:+0100
TZOFFSETTO:+0200
TZNAME:CEST
DTSTART:20250330T010000
END:DAYLIGHT
BEGIN:STANDARD
TZOFFSETFROM:+0200
TZOFFSETTO:+0100
TZNAME:CET
DTSTART:20251026T010000
END:STANDARD
BEGIN:DAYLIGHT
TZOFFSETFROM:+0100
TZOFFSETTO:+0200
TZNAME:CEST
DTSTART:20260329T010000
END:DAYLIGHT
BEGIN:STANDARD
TZOFFSETFROM:+0200
TZOFFSETTO:+0100
TZNAME:CET
DTSTART:20261025T010000
END:STANDARD
END:VTIMEZONE
BEGIN:VEVENT
DTSTART;TZID=Europe/Berlin:20251227T084500
DTEND;TZID=Europe/Berlin:20260101T101500
DTSTAMP:20260419T184513
CREATED:20251221T155237Z
LAST-MODIFIED:20251222T121850Z
UID:1742-1766825100-1767262500@waldeslauschen.de
SUMMARY:Auszeit zwischen den Jahren: Online-Retreat
DESCRIPTION:Raum für Rückzug\, Besinnung und Verkörperung \n27.- 31. Dezember\, jeweils 8:45 bis 9:30 und 19:00 bis 19:20 Uhr. \nKomme einfach dazu\, wie es für Dich passt. Du kannst also jeden Tag dabei sein oder auch nur einmal. Morgens gibt es angeleitete Angebote und abends laden wir zu einer gemeinsamen Stille ein. Vielleicht magst Du die Zeit dazwischen für Dich selbst als Einkehrtage gestalten. \nSamstag 27. Dezember: Das alte Jahr gehen lassen (Andi). Bitte Stift und Papier mitbringen. \nSonntag 28. Dezember: Tai Chi (Ina) \nMontag 29. Dezember: EcoNidra (flo*): Eine Reise im Liegen durch unsere Sinne\, unseren Körper und unsere Erde. \nDienstag\, 30. Dezember: Lichtmeditation (Anne) \nMittwoch 31. Dezember: Naad Yoga: Raags und Mantren für das neue Jahr (Andi) \nDonnerstag 1. Januar: Open Space (Anne und einfach schön): Ein Raum\, in dem Du Dich bei Dir zu Hause nach Herzenslust bewegen kannst.Virtuell verbunden mit anderen. Musikalisch begleitet vom trio einfach schön. 45 Minuten Klang und Bewegung\, dann Zeit zum Malen/Schreiben/Mitteilen und anschließend gemeinsame Stille. \nWir teilen gerne\, was uns gut tut! Unsere offenen Angebote sind unser Geschenk an Dich und unsere Welt – wir freuen uns\, wenn Du das nimmst\, was Du brauchst. Wir bedanken uns für Dein Vertrauen\, unsere Gemeinschaft und die Unterstützung im vergangenen Jahr. Wer uns noch etwas schenken möchte\, kann es gerne über PayPal.Me/TillFloK tun oder die Bankdaten unter ganzohr@waldeslauschen.de erfragen. Dort bekommst Du auch den Online-Zugang.
URL:http://waldeslauschen.de/einladung/auszeit-zwischen-den-jahren-online-retreat-2/
LOCATION:Zoom
ORGANIZER;CN="Till%20Flo%20Krapoth":MAILTO:ganzohr@waldeslauschen.de
END:VEVENT
BEGIN:VEVENT
DTSTART;TZID=Europe/Berlin:20260101T090000
DTEND;TZID=Europe/Berlin:20260101T100000
DTSTAMP:20260419T184513
CREATED:20251221T165325Z
LAST-MODIFIED:20251221T165325Z
UID:1753-1767258000-1767261600@waldeslauschen.de
SUMMARY:Online: Open Space
DESCRIPTION:Ein Raum\, in dem Du Dich bei Dir zu Hause nach Herzenslust bewegen kannst. \nVirtuell verbunden mit anderen. \nMusikalisch begleitet vom trio einfach schön. \nDen Zoomlink erhältst Du über ganzohr [at] waldeslauschen.de
URL:http://waldeslauschen.de/einladung/online-open-space-119/
LOCATION:Zoom
ORGANIZER;CN="Anne%20Pommier":MAILTO:info@anne-pommier.com
END:VEVENT
BEGIN:VEVENT
DTSTART;TZID=Europe/Berlin:20260105T084500
DTEND;TZID=Europe/Berlin:20260105T093000
DTSTAMP:20260419T184513
CREATED:20251221T165013Z
LAST-MODIFIED:20251221T165013Z
UID:1744-1767602700-1767605400@waldeslauschen.de
SUMMARY:Online: EcoNidra
DESCRIPTION:EcoNidra ist eine Mischung aus Tiefenentspannung und Naturverbindung. Hier kommen yogischer Schlaf und Waldbaden zusammen\, und das ganz bequem von zu Hause aus. Alles was du brauchst\, ist ein gemütlicher\, ungestörter Platz zum Liegen\, ein PC/Handy mit Internetverbindung\, am besten auch ein Kopfhörer\, und etwas aus der Natur\, z.B. einen Stein oder eine Pflanze. Wir machen uns gemeinsam auf eine Reise durch die Sinne\, den Körper und die Erde. Den Zoomlink erhältst Du über ganzohr [at] waldeslauschen.de
URL:http://waldeslauschen.de/einladung/online-econidra-84/
LOCATION:Zoom
ORGANIZER;CN="Till%20Flo%20Krapoth":MAILTO:ganzohr@waldeslauschen.de
END:VEVENT
BEGIN:VEVENT
DTSTART;TZID=Europe/Berlin:20260108T090000
DTEND;TZID=Europe/Berlin:20260108T100000
DTSTAMP:20260419T184513
CREATED:20251221T165411Z
LAST-MODIFIED:20251221T165411Z
UID:1755-1767862800-1767866400@waldeslauschen.de
SUMMARY:Online: Open Space
DESCRIPTION:Ein Raum\, in dem Du Dich bei Dir zu Hause nach Herzenslust bewegen kannst. \nVirtuell verbunden mit anderen. \nMusikalisch begleitet vom trio einfach schön. \nDen Zoomlink erhältst Du über ganzohr [at] waldeslauschen.de
URL:http://waldeslauschen.de/einladung/online-open-space-120/
LOCATION:Zoom
ORGANIZER;CN="Anne%20Pommier":MAILTO:info@anne-pommier.com
END:VEVENT
BEGIN:VEVENT
DTSTART;TZID=Europe/Berlin:20260112T084500
DTEND;TZID=Europe/Berlin:20260112T093000
DTSTAMP:20260419T184513
CREATED:20251221T165047Z
LAST-MODIFIED:20251221T165047Z
UID:1746-1768207500-1768210200@waldeslauschen.de
SUMMARY:Online: EcoNidra
DESCRIPTION:EcoNidra ist eine Mischung aus Tiefenentspannung und Naturverbindung. Hier kommen yogischer Schlaf und Waldbaden zusammen\, und das ganz bequem von zu Hause aus. Alles was du brauchst\, ist ein gemütlicher\, ungestörter Platz zum Liegen\, ein PC/Handy mit Internetverbindung\, am besten auch ein Kopfhörer\, und etwas aus der Natur\, z.B. einen Stein oder eine Pflanze. Wir machen uns gemeinsam auf eine Reise durch die Sinne\, den Körper und die Erde. Den Zoomlink erhältst Du über ganzohr [at] waldeslauschen.de
URL:http://waldeslauschen.de/einladung/online-econidra-85/
ORGANIZER;CN="Till%20Flo%20Krapoth":MAILTO:ganzohr@waldeslauschen.de
END:VEVENT
BEGIN:VEVENT
DTSTART;TZID=Europe/Berlin:20260115T090000
DTEND;TZID=Europe/Berlin:20260115T100000
DTSTAMP:20260419T184513
CREATED:20251221T165441Z
LAST-MODIFIED:20251221T165441Z
UID:1757-1768467600-1768471200@waldeslauschen.de
SUMMARY:Online: Open Space
DESCRIPTION:Ein Raum\, in dem Du Dich bei Dir zu Hause nach Herzenslust bewegen kannst. \nVirtuell verbunden mit anderen. \nMusikalisch begleitet vom trio einfach schön. \nDen Zoomlink erhältst Du über ganzohr [at] waldeslauschen.de
URL:http://waldeslauschen.de/einladung/online-open-space-121/
LOCATION:Zoom
ORGANIZER;CN="Anne%20Pommier":MAILTO:info@anne-pommier.com
END:VEVENT
BEGIN:VEVENT
DTSTART;TZID=Europe/Berlin:20260119T084500
DTEND;TZID=Europe/Berlin:20260119T093000
DTSTAMP:20260419T184513
CREATED:20251221T165123Z
LAST-MODIFIED:20251221T165123Z
UID:1748-1768812300-1768815000@waldeslauschen.de
SUMMARY:Online: EcoNidra
DESCRIPTION:EcoNidra ist eine Mischung aus Tiefenentspannung und Naturverbindung. Hier kommen yogischer Schlaf und Waldbaden zusammen\, und das ganz bequem von zu Hause aus. Alles was du brauchst\, ist ein gemütlicher\, ungestörter Platz zum Liegen\, ein PC/Handy mit Internetverbindung\, am besten auch ein Kopfhörer\, und etwas aus der Natur\, z.B. einen Stein oder eine Pflanze. Wir machen uns gemeinsam auf eine Reise durch die Sinne\, den Körper und die Erde. Den Zoomlink erhältst Du über ganzohr [at] waldeslauschen.de
URL:http://waldeslauschen.de/einladung/online-econidra-86/
LOCATION:Zoom
ORGANIZER;CN="Till%20Flo%20Krapoth":MAILTO:ganzohr@waldeslauschen.de
END:VEVENT
BEGIN:VEVENT
DTSTART;TZID=Europe/Berlin:20260122T090000
DTEND;TZID=Europe/Berlin:20260122T100000
DTSTAMP:20260419T184513
CREATED:20251221T165513Z
LAST-MODIFIED:20251221T165513Z
UID:1759-1769072400-1769076000@waldeslauschen.de
SUMMARY:Online: Open Space
DESCRIPTION:Ein Raum\, in dem Du Dich bei Dir zu Hause nach Herzenslust bewegen kannst. \nVirtuell verbunden mit anderen. \nMusikalisch begleitet vom trio einfach schön. \nDen Zoomlink erhältst Du über ganzohr [at] waldeslauschen.de
URL:http://waldeslauschen.de/einladung/online-open-space-122/
LOCATION:Zoom
ORGANIZER;CN="Anne%20Pommier":MAILTO:info@anne-pommier.com
END:VEVENT
BEGIN:VEVENT
DTSTART;TZID=Europe/Berlin:20260124T120000
DTEND;TZID=Europe/Berlin:20260124T150000
DTSTAMP:20260419T184513
CREATED:20251221T165654Z
LAST-MODIFIED:20260123T210722Z
UID:1763-1769256000-1769266800@waldeslauschen.de
SUMMARY:Wildes Wundern
DESCRIPTION:Wir kommen\, wie wir sind\, mit allem\, was wir gerade in uns tragen\, und lassen uns einladen\, Herzen und Sinne zu öffnen. In der Begegnung mit uns selbst\, den anderen in der Gruppe und dem Leben um uns herum können wir spüren\, dass wir lebendig sind. Wie ist es\, uns unseres Verwobenseins mit allem Leben zu erinnern\, einer Beziehung\, in der wir schenken und beschenkt werden? \nGib einen finanziellen Beitrag im Rahmen Deiner Möglichkeiten (Richtwert €25).
URL:http://waldeslauschen.de/einladung/wildes-wundern-34/
LOCATION:34414 Hardehausen
ORGANIZER;CN="Till%20Flo%20Krapoth":MAILTO:ganzohr@waldeslauschen.de
END:VEVENT
BEGIN:VEVENT
DTSTART;TZID=Europe/Berlin:20260126T084500
DTEND;TZID=Europe/Berlin:20260126T093000
DTSTAMP:20260419T184513
CREATED:20251221T165153Z
LAST-MODIFIED:20251221T165153Z
UID:1750-1769417100-1769419800@waldeslauschen.de
SUMMARY:Online: EcoNidra
DESCRIPTION:EcoNidra ist eine Mischung aus Tiefenentspannung und Naturverbindung. Hier kommen yogischer Schlaf und Waldbaden zusammen\, und das ganz bequem von zu Hause aus. Alles was du brauchst\, ist ein gemütlicher\, ungestörter Platz zum Liegen\, ein PC/Handy mit Internetverbindung\, am besten auch ein Kopfhörer\, und etwas aus der Natur\, z.B. einen Stein oder eine Pflanze. Wir machen uns gemeinsam auf eine Reise durch die Sinne\, den Körper und die Erde. Den Zoomlink erhältst Du über ganzohr [at] waldeslauschen.de
URL:http://waldeslauschen.de/einladung/online-econidra-87/
LOCATION:Zoom
ORGANIZER;CN="Till%20Flo%20Krapoth":MAILTO:ganzohr@waldeslauschen.de
END:VEVENT
BEGIN:VEVENT
DTSTART;TZID=Europe/Berlin:20260129T090000
DTEND;TZID=Europe/Berlin:20260129T100000
DTSTAMP:20260419T184513
CREATED:20251221T165544Z
LAST-MODIFIED:20251221T165544Z
UID:1761-1769677200-1769680800@waldeslauschen.de
SUMMARY:Online: Open Space
DESCRIPTION:Ein Raum\, in dem Du Dich bei Dir zu Hause nach Herzenslust bewegen kannst. \nVirtuell verbunden mit anderen. \nMusikalisch begleitet vom trio einfach schön. \nDen Zoomlink erhältst Du über ganzohr [at] waldeslauschen.de
URL:http://waldeslauschen.de/einladung/online-open-space-123/
LOCATION:Zoom
ORGANIZER;CN="Anne%20Pommier":MAILTO:info@anne-pommier.com
END:VEVENT
END:VCALENDAR