BEGIN:VCALENDAR
VERSION:2.0
PRODID:-//Waldeslauschen - ECPv6.1.3//NONSGML v1.0//EN
CALSCALE:GREGORIAN
METHOD:PUBLISH
X-WR-CALNAME:Waldeslauschen
X-ORIGINAL-URL:http://waldeslauschen.de
X-WR-CALDESC:Veranstaltungen für Waldeslauschen
REFRESH-INTERVAL;VALUE=DURATION:PT1H
X-Robots-Tag:noindex
X-PUBLISHED-TTL:PT1H
BEGIN:VTIMEZONE
TZID:Europe/Berlin
BEGIN:DAYLIGHT
TZOFFSETFROM:+0100
TZOFFSETTO:+0200
TZNAME:CEST
DTSTART:20250330T010000
END:DAYLIGHT
BEGIN:STANDARD
TZOFFSETFROM:+0200
TZOFFSETTO:+0100
TZNAME:CET
DTSTART:20251026T010000
END:STANDARD
END:VTIMEZONE
BEGIN:VEVENT
DTSTART;TZID=Europe/Berlin:20251101T140000
DTEND;TZID=Europe/Berlin:20251101T170000
DTSTAMP:20260419T215028
CREATED:20241218T123405Z
LAST-MODIFIED:20251030T072107Z
UID:1517-1762005600-1762016400@waldeslauschen.de
SUMMARY:Wildes Wundern
DESCRIPTION:Wir kommen\, wie wir sind\, mit allem\, was wir gerade in uns tragen\, und lassen uns einladen\, Herzen und Sinne zu öffnen. In der Begegnung mit uns selbst\, den anderen in der Gruppe und dem Leben um uns herum können wir spüren\, dass wir lebendig sind. Wie ist es\, uns unseres Verwobenseins mit allem Leben zu erinnern\, einer Beziehung\, in der wir schenken und beschenkt werden? \nGib einen finanziellen Beitrag im Rahmen Deiner Möglichkeiten (Richtwert €25).
URL:http://waldeslauschen.de/einladung/wildes-wundern-41/
LOCATION:34414 Hardehausen
ORGANIZER;CN="Till%20Flo%20Krapoth":MAILTO:ganzohr@waldeslauschen.de
END:VEVENT
BEGIN:VEVENT
DTSTART;TZID=Europe/Berlin:20251103T084500
DTEND;TZID=Europe/Berlin:20251103T093000
DTSTAMP:20260419T215028
CREATED:20251029T210548Z
LAST-MODIFIED:20251029T210548Z
UID:1692-1762159500-1762162200@waldeslauschen.de
SUMMARY:Online: EcoNidra
DESCRIPTION:EcoNidra ist eine Mischung aus Tiefenentspannung und Naturverbindung. Hier kommen yogischer Schlaf und Waldbaden zusammen\, und das ganz bequem von zu Hause aus. Alles was du brauchst\, ist ein gemütlicher\, ungestörter Platz zum Liegen\, ein PC/Handy mit Internetverbindung\, am besten auch ein Kopfhörer\, und etwas aus der Natur\, z.B. einen Stein oder eine Pflanze. Wir machen uns gemeinsam auf eine Reise durch die Sinne\, den Körper und die Erde. Den Zoomlink erhältst Du über ganzohr [at] waldeslauschen.de
URL:http://waldeslauschen.de/einladung/online-econidra-75/
LOCATION:Zoom
ORGANIZER;CN="Till%20Flo%20Krapoth":MAILTO:ganzohr@waldeslauschen.de
END:VEVENT
BEGIN:VEVENT
DTSTART;TZID=Europe/Berlin:20251106T090000
DTEND;TZID=Europe/Berlin:20251106T100000
DTSTAMP:20260419T215028
CREATED:20251029T211204Z
LAST-MODIFIED:20251029T211204Z
UID:1708-1762419600-1762423200@waldeslauschen.de
SUMMARY:Online: Open Space
DESCRIPTION:Ein Raum\, in dem Du Dich bei Dir zu Hause nach Herzenslust bewegen kannst. \nVirtuell verbunden mit anderen. \nMusikalisch begleitet vom trio einfach schön. \nDen Zoomlink erhältst Du über ganzohr [at] waldeslauschen.de
URL:http://waldeslauschen.de/einladung/online-open-space-111/
LOCATION:Zoom
ORGANIZER;CN="Anne%20Pommier":MAILTO:info@anne-pommier.com
END:VEVENT
BEGIN:VEVENT
DTSTART;TZID=Europe/Berlin:20251110T084500
DTEND;TZID=Europe/Berlin:20251110T093000
DTSTAMP:20260419T215028
CREATED:20251029T210624Z
LAST-MODIFIED:20251029T210624Z
UID:1694-1762764300-1762767000@waldeslauschen.de
SUMMARY:Online: EcoNidra
DESCRIPTION:EcoNidra ist eine Mischung aus Tiefenentspannung und Naturverbindung. Hier kommen yogischer Schlaf und Waldbaden zusammen\, und das ganz bequem von zu Hause aus. Alles was du brauchst\, ist ein gemütlicher\, ungestörter Platz zum Liegen\, ein PC/Handy mit Internetverbindung\, am besten auch ein Kopfhörer\, und etwas aus der Natur\, z.B. einen Stein oder eine Pflanze. Wir machen uns gemeinsam auf eine Reise durch die Sinne\, den Körper und die Erde. Den Zoomlink erhältst Du über ganzohr [at] waldeslauschen.de
URL:http://waldeslauschen.de/einladung/online-econidra-76/
LOCATION:Zoom
ORGANIZER;CN="Till%20Flo%20Krapoth":MAILTO:ganzohr@waldeslauschen.de
END:VEVENT
BEGIN:VEVENT
DTSTART;TZID=Europe/Berlin:20251113T090000
DTEND;TZID=Europe/Berlin:20251113T100000
DTSTAMP:20260419T215028
CREATED:20251029T211234Z
LAST-MODIFIED:20251029T211234Z
UID:1710-1763024400-1763028000@waldeslauschen.de
SUMMARY:Online: Open Space
DESCRIPTION:Ein Raum\, in dem Du Dich bei Dir zu Hause nach Herzenslust bewegen kannst. \nVirtuell verbunden mit anderen. \nMusikalisch begleitet vom trio einfach schön. \nDen Zoomlink erhältst Du über ganzohr [at] waldeslauschen.de
URL:http://waldeslauschen.de/einladung/online-open-space-112/
LOCATION:Zoom
ORGANIZER;CN="Anne%20Pommier":MAILTO:info@anne-pommier.com
END:VEVENT
BEGIN:VEVENT
DTSTART;TZID=Europe/Berlin:20251117T084500
DTEND;TZID=Europe/Berlin:20251117T093000
DTSTAMP:20260419T215028
CREATED:20251029T210658Z
LAST-MODIFIED:20251029T210658Z
UID:1696-1763369100-1763371800@waldeslauschen.de
SUMMARY:Online: EcoNidra
DESCRIPTION:EcoNidra ist eine Mischung aus Tiefenentspannung und Naturverbindung. Hier kommen yogischer Schlaf und Waldbaden zusammen\, und das ganz bequem von zu Hause aus. Alles was du brauchst\, ist ein gemütlicher\, ungestörter Platz zum Liegen\, ein PC/Handy mit Internetverbindung\, am besten auch ein Kopfhörer\, und etwas aus der Natur\, z.B. einen Stein oder eine Pflanze. Wir machen uns gemeinsam auf eine Reise durch die Sinne\, den Körper und die Erde. Den Zoomlink erhältst Du über ganzohr [at] waldeslauschen.de
URL:http://waldeslauschen.de/einladung/online-econidra-77/
LOCATION:Zoom
ORGANIZER;CN="Till%20Flo%20Krapoth":MAILTO:ganzohr@waldeslauschen.de
END:VEVENT
BEGIN:VEVENT
DTSTART;TZID=Europe/Berlin:20251120T090000
DTEND;TZID=Europe/Berlin:20251120T100000
DTSTAMP:20260419T215028
CREATED:20251029T211306Z
LAST-MODIFIED:20251029T211306Z
UID:1712-1763629200-1763632800@waldeslauschen.de
SUMMARY:Online: Open Space
DESCRIPTION:Ein Raum\, in dem Du Dich bei Dir zu Hause nach Herzenslust bewegen kannst. \nVirtuell verbunden mit anderen. \nMusikalisch begleitet vom trio einfach schön. \nDen Zoomlink erhältst Du über ganzohr [at] waldeslauschen.de
URL:http://waldeslauschen.de/einladung/online-open-space-113/
LOCATION:Zoom
ORGANIZER;CN="Anne%20Pommier":MAILTO:info@anne-pommier.com
END:VEVENT
BEGIN:VEVENT
DTSTART;TZID=Europe/Berlin:20251124T084500
DTEND;TZID=Europe/Berlin:20251124T093000
DTSTAMP:20260419T215028
CREATED:20251029T210736Z
LAST-MODIFIED:20251029T210736Z
UID:1698-1763973900-1763976600@waldeslauschen.de
SUMMARY:Online: EcoNidra
DESCRIPTION:EcoNidra ist eine Mischung aus Tiefenentspannung und Naturverbindung. Hier kommen yogischer Schlaf und Waldbaden zusammen\, und das ganz bequem von zu Hause aus. Alles was du brauchst\, ist ein gemütlicher\, ungestörter Platz zum Liegen\, ein PC/Handy mit Internetverbindung\, am besten auch ein Kopfhörer\, und etwas aus der Natur\, z.B. einen Stein oder eine Pflanze. Wir machen uns gemeinsam auf eine Reise durch die Sinne\, den Körper und die Erde. Den Zoomlink erhältst Du über ganzohr [at] waldeslauschen.de
URL:http://waldeslauschen.de/einladung/online-econidra-78/
LOCATION:Zoom
ORGANIZER;CN="Till%20Flo%20Krapoth":MAILTO:ganzohr@waldeslauschen.de
END:VEVENT
BEGIN:VEVENT
DTSTART;TZID=Europe/Berlin:20251127T090000
DTEND;TZID=Europe/Berlin:20251127T100000
DTSTAMP:20260419T215028
CREATED:20251029T211337Z
LAST-MODIFIED:20251029T211337Z
UID:1714-1764234000-1764237600@waldeslauschen.de
SUMMARY:Online: Open Space
DESCRIPTION:Ein Raum\, in dem Du Dich bei Dir zu Hause nach Herzenslust bewegen kannst. \nVirtuell verbunden mit anderen. \nMusikalisch begleitet vom trio einfach schön. \nDen Zoomlink erhältst Du über ganzohr [at] waldeslauschen.de
URL:http://waldeslauschen.de/einladung/online-open-space-114/
LOCATION:Zoom
ORGANIZER;CN="Anne%20Pommier":MAILTO:info@anne-pommier.com
END:VEVENT
END:VCALENDAR