BEGIN:VCALENDAR
VERSION:2.0
PRODID:-//Waldeslauschen - ECPv6.1.3//NONSGML v1.0//EN
CALSCALE:GREGORIAN
METHOD:PUBLISH
X-WR-CALNAME:Waldeslauschen
X-ORIGINAL-URL:http://waldeslauschen.de
X-WR-CALDESC:Veranstaltungen für Waldeslauschen
REFRESH-INTERVAL;VALUE=DURATION:PT1H
X-Robots-Tag:noindex
X-PUBLISHED-TTL:PT1H
BEGIN:VTIMEZONE
TZID:Europe/Berlin
BEGIN:DAYLIGHT
TZOFFSETFROM:+0100
TZOFFSETTO:+0200
TZNAME:CEST
DTSTART:20250330T010000
END:DAYLIGHT
BEGIN:STANDARD
TZOFFSETFROM:+0200
TZOFFSETTO:+0100
TZNAME:CET
DTSTART:20251026T010000
END:STANDARD
END:VTIMEZONE
BEGIN:VEVENT
DTSTART;TZID=Europe/Berlin:20251006T084500
DTEND;TZID=Europe/Berlin:20251006T093000
DTSTAMP:20260419T232538
CREATED:20251029T210353Z
LAST-MODIFIED:20251029T210353Z
UID:1686-1759740300-1759743000@waldeslauschen.de
SUMMARY:Online: EcoNidra
DESCRIPTION:EcoNidra ist eine Mischung aus Tiefenentspannung und Naturverbindung. Hier kommen yogischer Schlaf und Waldbaden zusammen\, und das ganz bequem von zu Hause aus. Alles was du brauchst\, ist ein gemütlicher\, ungestörter Platz zum Liegen\, ein PC/Handy mit Internetverbindung\, am besten auch ein Kopfhörer\, und etwas aus der Natur\, z.B. einen Stein oder eine Pflanze. Wir machen uns gemeinsam auf eine Reise durch die Sinne\, den Körper und die Erde. Den Zoomlink erhältst Du über ganzohr [at] waldeslauschen.de
URL:http://waldeslauschen.de/einladung/online-econidra-72/
LOCATION:Zoom
ORGANIZER;CN="Till%20Flo%20Krapoth":MAILTO:ganzohr@waldeslauschen.de
END:VEVENT
BEGIN:VEVENT
DTSTART;TZID=Europe/Berlin:20251009T090000
DTEND;TZID=Europe/Berlin:20251009T100000
DTSTAMP:20260419T232538
CREATED:20251029T210914Z
LAST-MODIFIED:20251029T210914Z
UID:1702-1760000400-1760004000@waldeslauschen.de
SUMMARY:Online: Open Space
DESCRIPTION:Ein Raum\, in dem Du Dich bei Dir zu Hause nach Herzenslust bewegen kannst. \nVirtuell verbunden mit anderen. \nMusikalisch begleitet vom trio einfach schön. \nDen Zoomlink erhältst Du über ganzohr [at] waldeslauschen.de
URL:http://waldeslauschen.de/einladung/online-open-space-109/
LOCATION:Zoom
ORGANIZER;CN="Anne%20Pommier":MAILTO:info@anne-pommier.com
END:VEVENT
BEGIN:VEVENT
DTSTART;TZID=Europe/Berlin:20251013T084500
DTEND;TZID=Europe/Berlin:20251013T093000
DTSTAMP:20260419T232538
CREATED:20251029T210436Z
LAST-MODIFIED:20251029T210436Z
UID:1688-1760345100-1760347800@waldeslauschen.de
SUMMARY:Online: EcoNidra
DESCRIPTION:EcoNidra ist eine Mischung aus Tiefenentspannung und Naturverbindung. Hier kommen yogischer Schlaf und Waldbaden zusammen\, und das ganz bequem von zu Hause aus. Alles was du brauchst\, ist ein gemütlicher\, ungestörter Platz zum Liegen\, ein PC/Handy mit Internetverbindung\, am besten auch ein Kopfhörer\, und etwas aus der Natur\, z.B. einen Stein oder eine Pflanze. Wir machen uns gemeinsam auf eine Reise durch die Sinne\, den Körper und die Erde. Den Zoomlink erhältst Du über ganzohr [at] waldeslauschen.de
URL:http://waldeslauschen.de/einladung/online-econidra-73/
LOCATION:Zoom
ORGANIZER;CN="Till%20Flo%20Krapoth":MAILTO:ganzohr@waldeslauschen.de
END:VEVENT
BEGIN:VEVENT
DTSTART;TZID=Europe/Berlin:20251016T090000
DTEND;TZID=Europe/Berlin:20251016T100000
DTSTAMP:20260419T232538
CREATED:20251029T211031Z
LAST-MODIFIED:20251029T211031Z
UID:1704-1760605200-1760608800@waldeslauschen.de
SUMMARY:Online: Open Space
DESCRIPTION:Ein Raum\, in dem Du Dich bei Dir zu Hause nach Herzenslust bewegen kannst. \nVirtuell verbunden mit anderen. \nMusikalisch begleitet vom trio einfach schön. \nDen Zoomlink erhältst Du über ganzohr [at] waldeslauschen.de
URL:http://waldeslauschen.de/einladung/online-open-space-110/
LOCATION:Zoom
ORGANIZER;CN="Anne%20Pommier":MAILTO:info@anne-pommier.com
END:VEVENT
BEGIN:VEVENT
DTSTART;TZID=Europe/Berlin:20251027T084500
DTEND;TZID=Europe/Berlin:20251027T093000
DTSTAMP:20260419T232538
CREATED:20251029T210511Z
LAST-MODIFIED:20251029T210511Z
UID:1690-1761554700-1761557400@waldeslauschen.de
SUMMARY:Online: EcoNidra
DESCRIPTION:EcoNidra ist eine Mischung aus Tiefenentspannung und Naturverbindung. Hier kommen yogischer Schlaf und Waldbaden zusammen\, und das ganz bequem von zu Hause aus. Alles was du brauchst\, ist ein gemütlicher\, ungestörter Platz zum Liegen\, ein PC/Handy mit Internetverbindung\, am besten auch ein Kopfhörer\, und etwas aus der Natur\, z.B. einen Stein oder eine Pflanze. Wir machen uns gemeinsam auf eine Reise durch die Sinne\, den Körper und die Erde. Den Zoomlink erhältst Du über ganzohr [at] waldeslauschen.de
URL:http://waldeslauschen.de/einladung/online-econidra-74/
LOCATION:Zoom
ORGANIZER;CN="Till%20Flo%20Krapoth":MAILTO:ganzohr@waldeslauschen.de
END:VEVENT
BEGIN:VEVENT
DTSTART;TZID=Europe/Berlin:20251030T090000
DTEND;TZID=Europe/Berlin:20251030T100000
DTSTAMP:20260419T232538
CREATED:20251029T211132Z
LAST-MODIFIED:20251029T211132Z
UID:1706-1761814800-1761818400@waldeslauschen.de
SUMMARY:Online: Open Space
DESCRIPTION:Ein Raum\, in dem Du Dich bei Dir zu Hause nach Herzenslust bewegen kannst. \nVirtuell verbunden mit anderen. \nMusikalisch begleitet vom trio einfach schön. \nDen Zoomlink erhältst Du über ganzohr [at] waldeslauschen.de
URL:http://waldeslauschen.de/einladung/online-open-space-108/
LOCATION:Zoom
ORGANIZER;CN="Anne%20Pommier":MAILTO:info@anne-pommier.com
END:VEVENT
END:VCALENDAR