BEGIN:VCALENDAR
VERSION:2.0
PRODID:-//Waldeslauschen - ECPv6.1.3//NONSGML v1.0//EN
CALSCALE:GREGORIAN
METHOD:PUBLISH
X-WR-CALNAME:Waldeslauschen
X-ORIGINAL-URL:http://waldeslauschen.de
X-WR-CALDESC:Veranstaltungen für Waldeslauschen
REFRESH-INTERVAL;VALUE=DURATION:PT1H
X-Robots-Tag:noindex
X-PUBLISHED-TTL:PT1H
BEGIN:VTIMEZONE
TZID:Europe/Berlin
BEGIN:DAYLIGHT
TZOFFSETFROM:+0100
TZOFFSETTO:+0200
TZNAME:CEST
DTSTART:20250330T010000
END:DAYLIGHT
BEGIN:STANDARD
TZOFFSETFROM:+0200
TZOFFSETTO:+0100
TZNAME:CET
DTSTART:20251026T010000
END:STANDARD
END:VTIMEZONE
BEGIN:VEVENT
DTSTART;TZID=Europe/Berlin:20250901T084500
DTEND;TZID=Europe/Berlin:20250901T093000
DTSTAMP:20260420T005509
CREATED:20250909T071212Z
LAST-MODIFIED:20250909T071212Z
UID:1667-1756716300-1756719000@waldeslauschen.de
SUMMARY:Online: EcoNidra
DESCRIPTION:EcoNidra ist eine Mischung aus Tiefenentspannung und Naturverbindung. Hier kommen yogischer Schlaf und Waldbaden zusammen\, und das ganz bequem von zu Hause aus. Alles was du brauchst\, ist ein gemütlicher\, ungestörter Platz zum Liegen\, ein PC/Handy mit Internetverbindung\, am besten auch ein Kopfhörer\, und etwas aus der Natur\, z.B. einen Stein oder eine Pflanze. Wir machen uns gemeinsam auf eine Reise durch die Sinne\, den Körper und die Erde. Den Zoomlink erhältst Du über ganzohr [at] waldeslauschen.de
URL:http://waldeslauschen.de/einladung/online-econidra-68/
LOCATION:Zoom
ORGANIZER;CN="Till%20Flo%20Krapoth":MAILTO:ganzohr@waldeslauschen.de
END:VEVENT
BEGIN:VEVENT
DTSTART;TZID=Europe/Berlin:20250904T090000
DTEND;TZID=Europe/Berlin:20250904T100000
DTSTAMP:20260420T005509
CREATED:20250909T071537Z
LAST-MODIFIED:20250909T071537Z
UID:1677-1756976400-1756980000@waldeslauschen.de
SUMMARY:Online: Open Space
DESCRIPTION:Ein Raum\, in dem Du Dich bei Dir zu Hause nach Herzenslust bewegen kannst. \nVirtuell verbunden mit anderen. \nMusikalisch begleitet vom trio einfach schön. \nDen Zoomlink erhältst Du über ganzohr [at] waldeslauschen.de
URL:http://waldeslauschen.de/einladung/online-open-space-104/
LOCATION:Zoom
ORGANIZER;CN="Anne%20Pommier":MAILTO:info@anne-pommier.com
END:VEVENT
BEGIN:VEVENT
DTSTART;TZID=Europe/Berlin:20250906T110000
DTEND;TZID=Europe/Berlin:20250906T140000
DTSTAMP:20260420T005509
CREATED:20241218T123144Z
LAST-MODIFIED:20241218T123144Z
UID:1513-1757156400-1757167200@waldeslauschen.de
SUMMARY:Wildes Wundern
DESCRIPTION:Wir kommen\, wie wir sind\, mit allem\, was wir gerade in uns tragen\, und lassen uns einladen\, Herzen und Sinne zu öffnen. In der Begegnung mit uns selbst\, den anderen in der Gruppe und dem Leben um uns herum können wir spüren\, dass wir lebendig sind. Wie ist es\, uns unseres Verwobenseins mit allem Leben zu erinnern\, einer Beziehung\, in der wir schenken und beschenkt werden? \nGib einen finanziellen Beitrag im Rahmen Deiner Möglichkeiten (Richtwert €25).
URL:http://waldeslauschen.de/einladung/wildes-wundern-39/
LOCATION:34414 Hardehausen
ORGANIZER;CN="Till%20Flo%20Krapoth":MAILTO:ganzohr@waldeslauschen.de
END:VEVENT
BEGIN:VEVENT
DTSTART;TZID=Europe/Berlin:20250908T084500
DTEND;TZID=Europe/Berlin:20250908T093000
DTSTAMP:20260420T005509
CREATED:20250909T071245Z
LAST-MODIFIED:20250909T071245Z
UID:1669-1757321100-1757323800@waldeslauschen.de
SUMMARY:Online: EcoNidra
DESCRIPTION:EcoNidra ist eine Mischung aus Tiefenentspannung und Naturverbindung. Hier kommen yogischer Schlaf und Waldbaden zusammen\, und das ganz bequem von zu Hause aus. Alles was du brauchst\, ist ein gemütlicher\, ungestörter Platz zum Liegen\, ein PC/Handy mit Internetverbindung\, am besten auch ein Kopfhörer\, und etwas aus der Natur\, z.B. einen Stein oder eine Pflanze. Wir machen uns gemeinsam auf eine Reise durch die Sinne\, den Körper und die Erde. Den Zoomlink erhältst Du über ganzohr [at] waldeslauschen.de
URL:http://waldeslauschen.de/einladung/online-econidra-69/
LOCATION:Zoom
ORGANIZER;CN="Till%20Flo%20Krapoth":MAILTO:ganzohr@waldeslauschen.de
END:VEVENT
BEGIN:VEVENT
DTSTART;TZID=Europe/Berlin:20250911T090000
DTEND;TZID=Europe/Berlin:20250911T100000
DTSTAMP:20260420T005509
CREATED:20250909T071609Z
LAST-MODIFIED:20250909T071609Z
UID:1679-1757581200-1757584800@waldeslauschen.de
SUMMARY:Online: Open Space
DESCRIPTION:Ein Raum\, in dem Du Dich bei Dir zu Hause nach Herzenslust bewegen kannst. \nVirtuell verbunden mit anderen. \nMusikalisch begleitet vom trio einfach schön. \nDen Zoomlink erhältst Du über ganzohr [at] waldeslauschen.de
URL:http://waldeslauschen.de/einladung/online-open-space-105/
LOCATION:Zoom
ORGANIZER;CN="Anne%20Pommier":MAILTO:info@anne-pommier.com
END:VEVENT
BEGIN:VEVENT
DTSTART;TZID=Europe/Berlin:20250915T084500
DTEND;TZID=Europe/Berlin:20250915T093000
DTSTAMP:20260420T005509
CREATED:20250909T071316Z
LAST-MODIFIED:20250909T071316Z
UID:1671-1757925900-1757928600@waldeslauschen.de
SUMMARY:Online: EcoNidra
DESCRIPTION:EcoNidra ist eine Mischung aus Tiefenentspannung und Naturverbindung. Hier kommen yogischer Schlaf und Waldbaden zusammen\, und das ganz bequem von zu Hause aus. Alles was du brauchst\, ist ein gemütlicher\, ungestörter Platz zum Liegen\, ein PC/Handy mit Internetverbindung\, am besten auch ein Kopfhörer\, und etwas aus der Natur\, z.B. einen Stein oder eine Pflanze. Wir machen uns gemeinsam auf eine Reise durch die Sinne\, den Körper und die Erde. Den Zoomlink erhältst Du über ganzohr [at] waldeslauschen.de
URL:http://waldeslauschen.de/einladung/online-econidra-70/
LOCATION:Zoom
ORGANIZER;CN="Till%20Flo%20Krapoth":MAILTO:ganzohr@waldeslauschen.de
END:VEVENT
BEGIN:VEVENT
DTSTART;TZID=Europe/Berlin:20250918T090000
DTEND;TZID=Europe/Berlin:20250918T100000
DTSTAMP:20260420T005509
CREATED:20250909T071638Z
LAST-MODIFIED:20250909T071638Z
UID:1681-1758186000-1758189600@waldeslauschen.de
SUMMARY:Online: Open Space
DESCRIPTION:Ein Raum\, in dem Du Dich bei Dir zu Hause nach Herzenslust bewegen kannst. \nVirtuell verbunden mit anderen. \nMusikalisch begleitet vom trio einfach schön. \nDen Zoomlink erhältst Du über ganzohr [at] waldeslauschen.de
URL:http://waldeslauschen.de/einladung/online-open-space-106/
LOCATION:Zoom
ORGANIZER;CN="Anne%20Pommier":MAILTO:info@anne-pommier.com
END:VEVENT
BEGIN:VEVENT
DTSTART;TZID=Europe/Berlin:20250922T084500
DTEND;TZID=Europe/Berlin:20250922T093000
DTSTAMP:20260420T005509
CREATED:20250909T071348Z
LAST-MODIFIED:20250909T071348Z
UID:1673-1758530700-1758533400@waldeslauschen.de
SUMMARY:Online: EcoNidra
DESCRIPTION:EcoNidra ist eine Mischung aus Tiefenentspannung und Naturverbindung. Hier kommen yogischer Schlaf und Waldbaden zusammen\, und das ganz bequem von zu Hause aus. Alles was du brauchst\, ist ein gemütlicher\, ungestörter Platz zum Liegen\, ein PC/Handy mit Internetverbindung\, am besten auch ein Kopfhörer\, und etwas aus der Natur\, z.B. einen Stein oder eine Pflanze. Wir machen uns gemeinsam auf eine Reise durch die Sinne\, den Körper und die Erde. Den Zoomlink erhältst Du über ganzohr [at] waldeslauschen.de
URL:http://waldeslauschen.de/einladung/online-econidra-71/
LOCATION:Zoom
ORGANIZER;CN="Till%20Flo%20Krapoth":MAILTO:ganzohr@waldeslauschen.de
END:VEVENT
BEGIN:VEVENT
DTSTART;TZID=Europe/Berlin:20250925T080000
DTEND;TZID=Europe/Berlin:20250925T170000
DTSTAMP:20260420T005509
CREATED:20250909T071708Z
LAST-MODIFIED:20250909T071708Z
UID:1683-1758787200-1758819600@waldeslauschen.de
SUMMARY:Online: Open Space
DESCRIPTION:Ein Raum\, in dem Du Dich bei Dir zu Hause nach Herzenslust bewegen kannst. \nVirtuell verbunden mit anderen. \nMusikalisch begleitet vom trio einfach schön. \nDen Zoomlink erhältst Du über ganzohr [at] waldeslauschen.de
URL:http://waldeslauschen.de/einladung/online-open-space-107/
LOCATION:Zoom
ORGANIZER;CN="Anne%20Pommier":MAILTO:info@anne-pommier.com
END:VEVENT
END:VCALENDAR