BEGIN:VCALENDAR
VERSION:2.0
PRODID:-//Waldeslauschen - ECPv6.1.3//NONSGML v1.0//EN
CALSCALE:GREGORIAN
METHOD:PUBLISH
X-ORIGINAL-URL:http://waldeslauschen.de
X-WR-CALDESC:Veranstaltungen für Waldeslauschen
REFRESH-INTERVAL;VALUE=DURATION:PT1H
X-Robots-Tag:noindex
X-PUBLISHED-TTL:PT1H
BEGIN:VTIMEZONE
TZID:Europe/Berlin
BEGIN:DAYLIGHT
TZOFFSETFROM:+0100
TZOFFSETTO:+0200
TZNAME:CEST
DTSTART:20250330T010000
END:DAYLIGHT
BEGIN:STANDARD
TZOFFSETFROM:+0200
TZOFFSETTO:+0100
TZNAME:CET
DTSTART:20251026T010000
END:STANDARD
END:VTIMEZONE
BEGIN:VEVENT
DTSTART;TZID=Europe/Berlin:20250703T090000
DTEND;TZID=Europe/Berlin:20250703T100000
DTSTAMP:20260420T035719
CREATED:20250728T084913Z
LAST-MODIFIED:20250728T084913Z
UID:1649-1751533200-1751536800@waldeslauschen.de
SUMMARY:Online: Open Space
DESCRIPTION:Ein Raum\, in dem Du Dich bei Dir zu Hause nach Herzenslust bewegen kannst. \nVirtuell verbunden mit anderen. \nMusikalisch begleitet vom trio einfach schön. \nDen Zoomlink erhältst Du über ganzohr [at] waldeslauschen.de
URL:http://waldeslauschen.de/einladung/online-open-space-97/
LOCATION:Zoom
ORGANIZER;CN="Anne%20Pommier":MAILTO:info@anne-pommier.com
END:VEVENT
BEGIN:VEVENT
DTSTART;TZID=Europe/Berlin:20250707T084500
DTEND;TZID=Europe/Berlin:20250707T093000
DTSTAMP:20260420T035719
CREATED:20250728T084337Z
LAST-MODIFIED:20250728T084337Z
UID:1633-1751877900-1751880600@waldeslauschen.de
SUMMARY:Online: EcoNidra
DESCRIPTION:EcoNidra ist eine Mischung aus Tiefenentspannung und Naturverbindung. Hier kommen yogischer Schlaf und Waldbaden zusammen\, und das ganz bequem von zu Hause aus. Alles was du brauchst\, ist ein gemütlicher\, ungestörter Platz zum Liegen\, ein PC/Handy mit Internetverbindung\, am besten auch ein Kopfhörer\, und etwas aus der Natur\, z.B. einen Stein oder eine Pflanze. Wir machen uns gemeinsam auf eine Reise durch die Sinne\, den Körper und die Erde. Den Zoomlink erhältst Du über ganzohr [at] waldeslauschen.de
URL:http://waldeslauschen.de/einladung/online-econidra-60/
LOCATION:Zoom
ORGANIZER;CN="Till%20Flo%20Krapoth":MAILTO:ganzohr@waldeslauschen.de
END:VEVENT
BEGIN:VEVENT
DTSTART;TZID=Europe/Berlin:20250714T084500
DTEND;TZID=Europe/Berlin:20250714T093000
DTSTAMP:20260420T035719
CREATED:20250728T084409Z
LAST-MODIFIED:20250728T084409Z
UID:1635-1752482700-1752485400@waldeslauschen.de
SUMMARY:Online: EcoNidra
DESCRIPTION:EcoNidra ist eine Mischung aus Tiefenentspannung und Naturverbindung. Hier kommen yogischer Schlaf und Waldbaden zusammen\, und das ganz bequem von zu Hause aus. Alles was du brauchst\, ist ein gemütlicher\, ungestörter Platz zum Liegen\, ein PC/Handy mit Internetverbindung\, am besten auch ein Kopfhörer\, und etwas aus der Natur\, z.B. einen Stein oder eine Pflanze. Wir machen uns gemeinsam auf eine Reise durch die Sinne\, den Körper und die Erde. Den Zoomlink erhältst Du über ganzohr [at] waldeslauschen.de
URL:http://waldeslauschen.de/einladung/online-econidra-61/
LOCATION:Zoom
ORGANIZER;CN="Till%20Flo%20Krapoth":MAILTO:ganzohr@waldeslauschen.de
END:VEVENT
BEGIN:VEVENT
DTSTART;TZID=Europe/Berlin:20250721T084500
DTEND;TZID=Europe/Berlin:20250721T093000
DTSTAMP:20260420T035719
CREATED:20250728T084441Z
LAST-MODIFIED:20250728T084441Z
UID:1637-1753087500-1753090200@waldeslauschen.de
SUMMARY:Online: EcoNidra
DESCRIPTION:EcoNidra ist eine Mischung aus Tiefenentspannung und Naturverbindung. Hier kommen yogischer Schlaf und Waldbaden zusammen\, und das ganz bequem von zu Hause aus. Alles was du brauchst\, ist ein gemütlicher\, ungestörter Platz zum Liegen\, ein PC/Handy mit Internetverbindung\, am besten auch ein Kopfhörer\, und etwas aus der Natur\, z.B. einen Stein oder eine Pflanze. Wir machen uns gemeinsam auf eine Reise durch die Sinne\, den Körper und die Erde. Den Zoomlink erhältst Du über ganzohr [at] waldeslauschen.de
URL:http://waldeslauschen.de/einladung/online-econidra-62/
LOCATION:Zoom
ORGANIZER;CN="Till%20Flo%20Krapoth":MAILTO:ganzohr@waldeslauschen.de
END:VEVENT
BEGIN:VEVENT
DTSTART;TZID=Europe/Berlin:20250724T090000
DTEND;TZID=Europe/Berlin:20250724T100000
DTSTAMP:20260420T035719
CREATED:20250728T084952Z
LAST-MODIFIED:20250728T084952Z
UID:1651-1753347600-1753351200@waldeslauschen.de
SUMMARY:Online: Open Space
DESCRIPTION:Ein Raum\, in dem Du Dich bei Dir zu Hause nach Herzenslust bewegen kannst. \nVirtuell verbunden mit anderen. \nMusikalisch begleitet vom trio einfach schön. \nDen Zoomlink erhältst Du über ganzohr [at] waldeslauschen.de
URL:http://waldeslauschen.de/einladung/online-open-space-98/
LOCATION:Zoom
ORGANIZER;CN="Anne%20Pommier":MAILTO:info@anne-pommier.com
END:VEVENT
BEGIN:VEVENT
DTSTART;TZID=Europe/Berlin:20250728T084500
DTEND;TZID=Europe/Berlin:20250728T093000
DTSTAMP:20260420T035719
CREATED:20250728T084513Z
LAST-MODIFIED:20250728T084513Z
UID:1639-1753692300-1753695000@waldeslauschen.de
SUMMARY:Online: EcoNidra
DESCRIPTION:EcoNidra ist eine Mischung aus Tiefenentspannung und Naturverbindung. Hier kommen yogischer Schlaf und Waldbaden zusammen\, und das ganz bequem von zu Hause aus. Alles was du brauchst\, ist ein gemütlicher\, ungestörter Platz zum Liegen\, ein PC/Handy mit Internetverbindung\, am besten auch ein Kopfhörer\, und etwas aus der Natur\, z.B. einen Stein oder eine Pflanze. Wir machen uns gemeinsam auf eine Reise durch die Sinne\, den Körper und die Erde. Den Zoomlink erhältst Du über ganzohr [at] waldeslauschen.de
URL:http://waldeslauschen.de/einladung/online-econidra-63/
LOCATION:Zoom
ORGANIZER;CN="Till%20Flo%20Krapoth":MAILTO:ganzohr@waldeslauschen.de
END:VEVENT
BEGIN:VEVENT
DTSTART;TZID=Europe/Berlin:20250731T090000
DTEND;TZID=Europe/Berlin:20250731T100000
DTSTAMP:20260420T035719
CREATED:20250728T085031Z
LAST-MODIFIED:20250728T085031Z
UID:1653-1753952400-1753956000@waldeslauschen.de
SUMMARY:Online: Open Space
DESCRIPTION:Ein Raum\, in dem Du Dich bei Dir zu Hause nach Herzenslust bewegen kannst. \nVirtuell verbunden mit anderen. \nMusikalisch begleitet vom trio einfach schön. \nDen Zoomlink erhältst Du über ganzohr [at] waldeslauschen.de
URL:http://waldeslauschen.de/einladung/online-open-space-99/
LOCATION:Zoom
ORGANIZER;CN="Anne%20Pommier":MAILTO:info@anne-pommier.com
END:VEVENT
END:VCALENDAR