BEGIN:VCALENDAR
VERSION:2.0
PRODID:-//Waldeslauschen - ECPv6.1.3//NONSGML v1.0//EN
CALSCALE:GREGORIAN
METHOD:PUBLISH
X-ORIGINAL-URL:http://waldeslauschen.de
X-WR-CALDESC:Veranstaltungen für Waldeslauschen
REFRESH-INTERVAL;VALUE=DURATION:PT1H
X-Robots-Tag:noindex
X-PUBLISHED-TTL:PT1H
BEGIN:VTIMEZONE
TZID:Europe/Berlin
BEGIN:DAYLIGHT
TZOFFSETFROM:+0100
TZOFFSETTO:+0200
TZNAME:CEST
DTSTART:20260329T010000
END:DAYLIGHT
BEGIN:STANDARD
TZOFFSETFROM:+0200
TZOFFSETTO:+0100
TZNAME:CET
DTSTART:20261025T010000
END:STANDARD
END:VTIMEZONE
BEGIN:VEVENT
DTSTART;TZID=Europe/Berlin:20260314T140000
DTEND;TZID=Europe/Berlin:20260314T170000
DTSTAMP:20260419T171843
CREATED:20260308T091332Z
LAST-MODIFIED:20260321T103753Z
UID:1813-1773496800-1773507600@waldeslauschen.de
SUMMARY:Waldbaden im Arboretum: Träumen unter Bäumen
DESCRIPTION:  \n\n\n \nWaldbaden stammt ursprünglich aus Japan und ist dort unter dem Namen „Shinrin Yoku“ (In die Atmosphäre des Waldes eintauchen) bekannt. Es kann zur Förderung des Immunsystems\, Unterstützung der psychischen Gesundheit und des allgemeinen Wohlbefindes beitragen. Aufbau von Beziehungen und die Erfahrung\, Teil von etwas Größerem zu sein\, sind weitere Kernthemen. Bei einem etwa 3-stündigen Spaziergang sind wir eingeladen zum Entschleunigen\, Sehen\, Hören\, Riechen\, Schmecken und Spüren. \nBitte wetterentsprechende Kleidung (eher etwas wärmere Kleidung) mit geeignetem Schuhwerk tragen.
URL:http://waldeslauschen.de/einladung/waldbaden-im-arboretum-traeumen-unter-baeumen-8/
LOCATION:Arboretum Bad Driburg
END:VEVENT
END:VCALENDAR