BEGIN:VCALENDAR
VERSION:2.0
PRODID:-//Waldeslauschen - ECPv6.1.3//NONSGML v1.0//EN
CALSCALE:GREGORIAN
METHOD:PUBLISH
X-WR-CALNAME:Waldeslauschen
X-ORIGINAL-URL:http://waldeslauschen.de
X-WR-CALDESC:Veranstaltungen für Waldeslauschen
REFRESH-INTERVAL;VALUE=DURATION:PT1H
X-Robots-Tag:noindex
X-PUBLISHED-TTL:PT1H
BEGIN:VTIMEZONE
TZID:Europe/Berlin
BEGIN:DAYLIGHT
TZOFFSETFROM:+0100
TZOFFSETTO:+0200
TZNAME:CEST
DTSTART:20250330T010000
END:DAYLIGHT
BEGIN:STANDARD
TZOFFSETFROM:+0200
TZOFFSETTO:+0100
TZNAME:CET
DTSTART:20251026T010000
END:STANDARD
END:VTIMEZONE
BEGIN:VEVENT
DTSTART;TZID=Europe/Berlin:20250609T084500
DTEND;TZID=Europe/Berlin:20250609T093000
DTSTAMP:20260420T070028
CREATED:20250602T073513Z
LAST-MODIFIED:20250602T073812Z
UID:1615-1749458700-1749461400@waldeslauschen.de
SUMMARY:Online: EcoNidra
DESCRIPTION:EcoNidra ist eine Mischung aus Tiefenentspannung und Naturverbindung. Hier kommen yogischer Schlaf und Waldbaden zusammen\, und das ganz bequem von zu Hause aus. Alles was du brauchst\, ist ein gemütlicher\, ungestörter Platz zum Liegen\, ein PC/Handy mit Internetverbindung\, am besten auch ein Kopfhörer\, und etwas aus der Natur\, z.B. einen Stein oder eine Pflanze. Wir machen uns gemeinsam auf eine Reise durch die Sinne\, den Körper und die Erde. Den Zoomlink erhältst Du über ganzohr [at] waldeslauschen.de
URL:http://waldeslauschen.de/einladung/online-econidra-56/
LOCATION:Zoom
ORGANIZER;CN="Till%20Flo%20Krapoth":MAILTO:ganzohr@waldeslauschen.de
END:VEVENT
BEGIN:VEVENT
DTSTART;TZID=Europe/Berlin:20250609T110000
DTEND;TZID=Europe/Berlin:20250609T140000
DTSTAMP:20260420T070028
CREATED:20241218T122649Z
LAST-MODIFIED:20250602T073339Z
UID:1507-1749466800-1749477600@waldeslauschen.de
SUMMARY:Wildes Wundern
DESCRIPTION:Wir kommen\, wie wir sind\, mit allem\, was wir gerade in uns tragen\, und lassen uns einladen\, Herzen und Sinne zu öffnen. In der Begegnung mit uns selbst\, den anderen in der Gruppe und dem Leben um uns herum können wir spüren\, dass wir lebendig sind. Wie ist es\, uns unseres Verwobenseins mit allem Leben zu erinnern\, einer Beziehung\, in der wir schenken und beschenkt werden? \nGib einen finanziellen Beitrag im Rahmen Deiner Möglichkeiten (Richtwert €25).
URL:http://waldeslauschen.de/einladung/wildes-wundern-36/
LOCATION:34414 Hardehausen
ORGANIZER;CN="Till%20Flo%20Krapoth":MAILTO:ganzohr@waldeslauschen.de
END:VEVENT
END:VCALENDAR