BEGIN:VCALENDAR
VERSION:2.0
PRODID:-//Waldeslauschen - ECPv6.1.3//NONSGML v1.0//EN
CALSCALE:GREGORIAN
METHOD:PUBLISH
X-WR-CALNAME:Waldeslauschen
X-ORIGINAL-URL:http://waldeslauschen.de
X-WR-CALDESC:Veranstaltungen für Waldeslauschen
REFRESH-INTERVAL;VALUE=DURATION:PT1H
X-Robots-Tag:noindex
X-PUBLISHED-TTL:PT1H
BEGIN:VTIMEZONE
TZID:Europe/Berlin
BEGIN:DAYLIGHT
TZOFFSETFROM:+0100
TZOFFSETTO:+0200
TZNAME:CEST
DTSTART:20250330T010000
END:DAYLIGHT
BEGIN:STANDARD
TZOFFSETFROM:+0200
TZOFFSETTO:+0100
TZNAME:CET
DTSTART:20251026T010000
END:STANDARD
END:VTIMEZONE
BEGIN:VEVENT
DTSTART;TZID=Europe/Berlin:20250604T110000
DTEND;TZID=Europe/Berlin:20250604T120000
DTSTAMP:20260420T065831
CREATED:20250602T192943Z
LAST-MODIFIED:20250602T192943Z
UID:1631-1749034800-1749038400@waldeslauschen.de
SUMMARY:Mit der Erde stehen
DESCRIPTION:Mit der Erde stehen in Verbundenheit & Demut und als Akt des stillen Widerstands. Standing with the Earth ist ein Aufruf zum gemeinsamen Innehalten und Wahrnehmen in Zeiten tiefgreifender Krise und Ratlosigkeit. \nJeden ersten Mittwoch im Monat 11 Uhr. \n\n\n\n\n\n\n\n 
URL:http://waldeslauschen.de/einladung/mit-der-erde-stehen-16/
LOCATION:Vor der Stadtbücherei Paderborn
ORGANIZER;CN="Anne%20Pommier":MAILTO:info@anne-pommier.com
END:VEVENT
END:VCALENDAR